BEGIN:VCALENDAR
VERSION:2.0
PRODID:-//Het Wapen van Reek - ECPv6.2.9//NONSGML v1.0//EN
CALSCALE:GREGORIAN
METHOD:PUBLISH
X-ORIGINAL-URL:https://hetwapenvanreek.nl
X-WR-CALDESC:Evenementen voor Het Wapen van Reek
REFRESH-INTERVAL;VALUE=DURATION:PT1H
X-Robots-Tag:noindex
X-PUBLISHED-TTL:PT1H
BEGIN:VTIMEZONE
TZID:UTC
BEGIN:STANDARD
TZOFFSETFROM:+0000
TZOFFSETTO:+0000
TZNAME:UTC
DTSTART:20260101T000000
END:STANDARD
END:VTIMEZONE
BEGIN:VEVENT
DTSTART;TZID=UTC:20260208T140000
DTEND;TZID=UTC:20260208T170000
DTSTAMP:20260421T152536
CREATED:20250208T112602Z
LAST-MODIFIED:20260205T065412Z
UID:3811-1770559200-1770570000@hetwapenvanreek.nl
SUMMARY:KeeMoesbal
DESCRIPTION:Op zondag 8 februari om 14 uur vindt het jaarlijkse KeeMoesbal plaats in Het Wapen van Reek. Dit speciale carnavalsfeest biedt een gezellige middag voor mensen met een beperking en anderen die om een bijzondere reden niet aan het reguliere carnaval kunnen deelnemen. \nHet KeeMoesbal-comité\, samen met carnavalsstichtingen De Moeslanden en Het Kêlerijk\, zorgt voor een afwisselend programma vol muziek\, optredens en vrolijkheid. Hoogtepunt is het moment waarop jeugdige bezoekers hun eigen acts en liedjes presenteren\, waarvoor ze al weken oefenen. Naast een feestelijke sfeer wordt ook goed gezorgd voor de bezoekers. Er is koffie\, thee en een drankje en als afsluiting krijgt iedereen een uitgebreide koffietafel aangeboden. Het evenement is toegankelijk voor iedereen die zich hiertoe aangesproken voelt.
URL:https://hetwapenvanreek.nl/event/keemoesbal/
ATTACH;FMTTYPE=image/jpeg:https://hetwapenvanreek.nl/wp-content/uploads/2025/02/Keemoesbal.jpg
END:VEVENT
END:VCALENDAR