BEGIN:VCALENDAR
VERSION:2.0
PRODID:-//Het Wapen van Reek - ECPv6.2.9//NONSGML v1.0//EN
CALSCALE:GREGORIAN
METHOD:PUBLISH
X-WR-CALNAME:Het Wapen van Reek
X-ORIGINAL-URL:https://hetwapenvanreek.nl
X-WR-CALDESC:Evenementen voor Het Wapen van Reek
REFRESH-INTERVAL;VALUE=DURATION:PT1H
X-Robots-Tag:noindex
X-PUBLISHED-TTL:PT1H
BEGIN:VTIMEZONE
TZID:UTC
BEGIN:STANDARD
TZOFFSETFROM:+0000
TZOFFSETTO:+0000
TZNAME:UTC
DTSTART:20260101T000000
END:STANDARD
END:VTIMEZONE
BEGIN:VEVENT
DTSTART;TZID=UTC:20260227T193000
DTEND;TZID=UTC:20260227T213000
DTSTAMP:20260421T132312
CREATED:20250713T054759Z
LAST-MODIFIED:20251230T090615Z
UID:3985-1772220600-1772227800@hetwapenvanreek.nl
SUMMARY:Het verhaal van Reek
DESCRIPTION:Vanwege het succes van zijn eerdere presentaties verzorgt Ton Cruijsen in 2026 nog twee lezingen. Het thema verkeer en vervoer staat gepland voor vrijdag 27 februari en vrijdag 20 maart gaat het over leven tussen twee kloosters.  \nKaartjes zijn te koop vanaf 2 februari tegen contante betaling van € 5\,- in Het Wapen van Reek. De presentatie vindt plaats op vrijdagavond van 19.30 tot 21.30 uur.
URL:https://hetwapenvanreek.nl/event/het-verhaal-van-reek-6/
ATTACH;FMTTYPE=image/jpeg:https://hetwapenvanreek.nl/wp-content/uploads/2024/12/Reek-fotograaf.jpg
END:VEVENT
END:VCALENDAR