BEGIN:VCALENDAR
VERSION:2.0
PRODID:-//Het Wapen van Reek - ECPv6.2.9//NONSGML v1.0//EN
CALSCALE:GREGORIAN
METHOD:PUBLISH
X-ORIGINAL-URL:https://hetwapenvanreek.nl
X-WR-CALDESC:Evenementen voor Het Wapen van Reek
REFRESH-INTERVAL;VALUE=DURATION:PT1H
X-Robots-Tag:noindex
X-PUBLISHED-TTL:PT1H
BEGIN:VTIMEZONE
TZID:UTC
BEGIN:STANDARD
TZOFFSETFROM:+0000
TZOFFSETTO:+0000
TZNAME:UTC
DTSTART:20260101T000000
END:STANDARD
END:VTIMEZONE
BEGIN:VEVENT
DTSTART;TZID=UTC:20260301T140000
DTEND;TZID=UTC:20260301T160000
DTSTAMP:20260421T131757
CREATED:20260226T084909Z
LAST-MODIFIED:20260226T084909Z
UID:4137-1772373600-1772380800@hetwapenvanreek.nl
SUMMARY:Brioso Trio te gast bij Muzis
DESCRIPTION:Muzis presenteert op zondag 1 maart het Brioso Trio in Het Wapen van Reek. Het ensemble bestaat uit Martine Velthuis (viool)\, Mathias Pearson (cello) en Jurn Tjoa (piano). Het trio werd in september 2019 opgericht aan het Koninklijk Conservatorium in Den Haag. De naam Brioso\, wat levendig en vol vuur betekent\, weerspiegelt het karakter van het gezelschap. Sinds 2025 vormt Jurn Tjoa de vaste pianist van het trio.\nTijdens het concert klinken werken van Mozart\, Fauré en Sjostakovitsj. Het optreden vindt plaats van 12 tot 14 uur.
URL:https://hetwapenvanreek.nl/event/brioso-trio-te-gast-bij-muzis/
ATTACH;FMTTYPE=image/jpeg:https://hetwapenvanreek.nl/wp-content/uploads/2026/02/Brioso-Trio.jpg
END:VEVENT
END:VCALENDAR