BEGIN:VCALENDAR
VERSION:2.0
PRODID:-//Het Wapen van Reek - ECPv6.2.9//NONSGML v1.0//EN
CALSCALE:GREGORIAN
METHOD:PUBLISH
X-ORIGINAL-URL:https://hetwapenvanreek.nl
X-WR-CALDESC:Evenementen voor Het Wapen van Reek
REFRESH-INTERVAL;VALUE=DURATION:PT1H
X-Robots-Tag:noindex
X-PUBLISHED-TTL:PT1H
BEGIN:VTIMEZONE
TZID:UTC
BEGIN:STANDARD
TZOFFSETFROM:+0000
TZOFFSETTO:+0000
TZNAME:UTC
DTSTART:20260101T000000
END:STANDARD
END:VTIMEZONE
BEGIN:VEVENT
DTSTART;TZID=UTC:20260321T140000
DTEND;TZID=UTC:20260321T170000
DTSTAMP:20260421T132423
CREATED:20230721T122718Z
LAST-MODIFIED:20260210T083323Z
UID:3132-1774101600-1774112400@hetwapenvanreek.nl
SUMMARY:Lenteconcert De Maessanghers
DESCRIPTION:De Maessanghers is een schipperskoor dat bestaat uit 55 mannen die\, samen met twee accordeonisten\, onder leiding van de enthousiaste dirigent Geert Verhallen komt optreden in Het Wapen van Reek op zaterdag 21 maart. \nZingen is “gezond voor je lijf en je leden”\, zo bezong Dorus Manders het in zijn marinelied. En zo wordt het ook door de mannen van het koor ervaren.  \nAanvang concert: 14.00 uur
URL:https://hetwapenvanreek.nl/event/maessanghers/
ATTACH;FMTTYPE=image/jpeg:https://hetwapenvanreek.nl/wp-content/uploads/2023/07/Maessanghers.jpg
END:VEVENT
END:VCALENDAR