BEGIN:VCALENDAR
VERSION:2.0
PRODID:-//Het Wapen van Reek - ECPv6.2.9//NONSGML v1.0//EN
CALSCALE:GREGORIAN
METHOD:PUBLISH
X-ORIGINAL-URL:https://hetwapenvanreek.nl
X-WR-CALDESC:Evenementen voor Het Wapen van Reek
REFRESH-INTERVAL;VALUE=DURATION:PT1H
X-Robots-Tag:noindex
X-PUBLISHED-TTL:PT1H
BEGIN:VTIMEZONE
TZID:UTC
BEGIN:STANDARD
TZOFFSETFROM:+0000
TZOFFSETTO:+0000
TZNAME:UTC
DTSTART:20260101T000000
END:STANDARD
END:VTIMEZONE
BEGIN:VEVENT
DTSTART;TZID=UTC:20260101T150000
DTEND;TZID=UTC:20260101T170000
DTSTAMP:20260421T145627
CREATED:20221220T072330Z
LAST-MODIFIED:20251203T092241Z
UID:2969-1767279600-1767286800@hetwapenvanreek.nl
SUMMARY:Nieuwjaarsconcert
DESCRIPTION:Het traditionele nieuwjaarsconcert van Semper Crescendo staat weer op de agenda na een jaar van afwezigheid. Het orkest brengt een veelzijdig en verrassend repertoire. Er is voor iedereen wat te genieten. Een speciaal moment wordt het concert voor twee jeugdige leerlingen\, die samen met het orkest twee nummers meespelen. Na het concert is er gelegenheid om samen het nieuwe jaar in te luiden en te proosten met elkaar. Het nieuwjaarsconcert vindt plaats op 1 januari in het Wapen van Reek. De zaal is open vanaf 14:30u\, het concert begint om 15:00u. De toegang is gratis.
URL:https://hetwapenvanreek.nl/event/nieuwjaarsconcert/
END:VEVENT
BEGIN:VEVENT
DTSTART;TZID=UTC:20260111T103000
DTEND;TZID=UTC:20260111T123000
DTSTAMP:20260421T145627
CREATED:20251129T190512Z
LAST-MODIFIED:20251129T190512Z
UID:4079-1768127400-1768134600@hetwapenvanreek.nl
SUMMARY:Zumba in Het Wapen
DESCRIPTION:Jeanette Lefebre verzorgt met haar dansschool JLdacne4fun al bijna twee jaar de Zumba-lessen in het Wapen van Reek. Om meer mensen kennis met haar en deze fitnesssport te laten maken\, houdt ze zondag 11 januari een nieuwjaarsborrel in combinatie met een open dag.  \nWil je kennismaken met Jeannette en/of de verschillende Zumba-stijlen? Kom dan zondag 11 januari tussen 10:30u en 12:30u naar de nieuwjaarsborrel. Het eerste uur staat in het teken van Zumba fitness en het laatste uur is voor Zumba gold. Iedereen is van harte welkom om te komen kijken.
URL:https://hetwapenvanreek.nl/event/zumba-in-het-wapen/
END:VEVENT
BEGIN:VEVENT
DTSTART;TZID=UTC:20260117T200000
DTEND;TZID=UTC:20260117T230000
DTSTAMP:20260421T145627
CREATED:20231222T093733Z
LAST-MODIFIED:20260106T145420Z
UID:3278-1768680000-1768690800@hetwapenvanreek.nl
SUMMARY:Regio-orkest Oost-Brabant
DESCRIPTION:Op zaterdag 17 januari in Het Wapen van Reek: \nRegio-Orkest Oost-Brabant\nontmoet\nSymfonisch Blaasorkest van de Koninklijke Harmonie Oosterbeek \nHet Regio-orkest Oost-Brabant nodigt muziekliefhebbers in de regio uit voor drie gratis uitwisselingsconcerten in januari. Tijdens deze concerten deelt het orkest het podium met verschillende ensembles uit Oost-Brabant. Muzikanten uit diverse dorpen\, stijlen en generaties spelen samen en laten horen hoe verbindend muziek kan zijn. \nDe concertreeks start op zaterdag 17 januari in Het Wapen van Reek\, waar het Regio-orkest samen optreedt met het Symfonisch Blaasorkest van de Koninklijke Harmonie Oosterbeek. Een dag later volgt een concert in Duvelshof in Sambeek met de a-capellagroep SignaTune. De reeks wordt afgesloten op zondag 25 januari in MFA Oelbroeck in Sint Anthonis\, samen met Harmonie EMM uit Boekel.
URL:https://hetwapenvanreek.nl/event/regio-orkest-oost-brabant-2/
ATTACH;FMTTYPE=image/jpeg:https://hetwapenvanreek.nl/wp-content/uploads/2023/12/Regioorkest.jpg
END:VEVENT
BEGIN:VEVENT
DTSTART;TZID=UTC:20260130T200000
DTEND;TZID=UTC:20260131T010000
DTSTAMP:20260421T145627
CREATED:20230104T071457Z
LAST-MODIFIED:20251230T091345Z
UID:2994-1769803200-1769821200@hetwapenvanreek.nl
SUMMARY:Pronkzitting Kêlerijk
DESCRIPTION:Vrijdag 30 en zaterdag 31 januari staan de pronkzittingen weer op de agenda: een avond vol humor van eigen bodem. Tijdens de kaartverkoop is het ook mogelijk om alvast een kaartje te kopen voor de biercantus op vrijdag 13 februari.  \nOok dit jaar zijn er weer drie voorstellingen: \nVrijdag 30 januari  20:00u\nZaterdag 31 januari 13:00u\nZaterdag 31 januari 20:00u \nKaartverkoop:\nDonderdag 15 januari van 19:00u tot 20:00u voor donateurs\nVrijdag 16 januari van 19:00u tot 20:00u vrije verkoop
URL:https://hetwapenvanreek.nl/event/pronkzitting/
ATTACH;FMTTYPE=image/jpeg:https://hetwapenvanreek.nl/wp-content/uploads/2023/01/Pronkzitting.jpg
END:VEVENT
END:VCALENDAR