BEGIN:VCALENDAR
VERSION:2.0
PRODID:-//Het Wapen van Reek - ECPv6.2.9//NONSGML v1.0//EN
CALSCALE:GREGORIAN
METHOD:PUBLISH
X-ORIGINAL-URL:https://hetwapenvanreek.nl
X-WR-CALDESC:Evenementen voor Het Wapen van Reek
REFRESH-INTERVAL;VALUE=DURATION:PT1H
X-Robots-Tag:noindex
X-PUBLISHED-TTL:PT1H
BEGIN:VTIMEZONE
TZID:UTC
BEGIN:STANDARD
TZOFFSETFROM:+0000
TZOFFSETTO:+0000
TZNAME:UTC
DTSTART:20260101T000000
END:STANDARD
END:VTIMEZONE
BEGIN:VEVENT
DTSTART;TZID=UTC:20260506T190000
DTEND;TZID=UTC:20260506T223000
DTSTAMP:20260421T113811
CREATED:20230721T123157Z
LAST-MODIFIED:20260327T075836Z
UID:3135-1778094000-1778106600@hetwapenvanreek.nl
SUMMARY:Bordspelavond
DESCRIPTION:Voortaan elke 1e woensdagavond van de maand bordspel avond in ’t Wapen van Reek. De volgende keer dus op woensdag 6 mei. \nOntdek een nieuwe wereld aan prachtige leuke spellen. Zo veel variatie\, er gaat echt een wereld voor je open! Je hoeft niet langer uit te zitten als je achter loopt in Monopoly\, of uitgeschakeld wordt met een verkeerde worp in Risk. Met moderne bordspellen blijft je altijd betrokken. Er zijn altijd leuke nieuwe dingen te ontdekken\, en nieuwe ervaringen op te doen. En dat allemaal samen\, gezellig in een groep. Lekker even weg van het scherm en samen aan tafel zitten met een gezamenlijk doel.
URL:https://hetwapenvanreek.nl/event/bordspelavond/
ATTACH;FMTTYPE=image/jpeg:https://hetwapenvanreek.nl/wp-content/uploads/2023/07/bordspelavond-2.jpg
END:VEVENT
BEGIN:VEVENT
DTSTART;TZID=UTC:20260522T140000
DTEND;TZID=UTC:20260522T170000
DTSTAMP:20260421T113811
CREATED:20230901T095609Z
LAST-MODIFIED:20260414T112934Z
UID:3147-1779458400-1779469200@hetwapenvanreek.nl
SUMMARY:Bingomiddag
DESCRIPTION:De bingomiddag van Senioren Reek is speciaal voor senioren. Je hoeft geen lid te zijn om deel te nemen. Sluit dus gezellig aan. De ballen rollen eens per maand op vrijdagmiddag in Het Wapen van Reek. De eerstvolgende keer is vrijdag 22 mei om 14:00u.
URL:https://hetwapenvanreek.nl/event/bingomiddag/
ATTACH;FMTTYPE=image/jpeg:https://hetwapenvanreek.nl/wp-content/uploads/2023/09/bingo.jpg
END:VEVENT
END:VCALENDAR